Workbook

Sheet scolaire
C1: MENUS D'OCTOBRE 2026 réalisés par la Ville de Camaret-sur-Aygues
B2: Octobre Rose | D2: SEMAINE du GOUT | F2: Centre de Loisirs | H2: Centre de Loisirs
B3: 05 au 09 Octobre | D3: 12 au 16 Octobre | F3: 19 au 23 Octobre | H3: 26 au 30 Octobre
A4: Lundi | B4: Tarte douceur d'automne 1/2/4 | D4: Salade verte | F4: Coquillettes et féta au basilic 2/4 | H4: Tortis au pesto rouge 4/
B5: Roti de porc* sauce chorizo 2/6 | D5: Escalope de poulet* aux myrtilles 2 | F5: Poulet* rôti | H5: Cotes de porc*
B6: Petits pois 6 | D6: Riz | F6: Choux fleur | H6: Jeunes carottes 6
B7: Yaourt | D7: Compote 6 | F7: Yaourt | H7: Fromage blanc
A9: Mardi | B9: Haricots verts et mimolette en salade 2/6 | D9: Salade de riz exotique au thon 6/7/11 | F9: Salade verte | H9: Lentilles vinaigrette
B10: Boul'bœuf* | D10: Quenelles natures aux champignons 2 | F10: Haché de porc* | H10: Gnocchis 4
B11: Semoule 4 | D11: Poelée de légumes 6 | F11: Purée 2 | H11: sauce Fromagère et rapé 2
B12: Fruit | D12: Fromage blanc | F12: Fromage | H12: Fruit
A14: Mercredi | B14: Salade de pâtes 4 | D14: Muffin au roblechon 1/2/4 | F14: Pommes de terre au fromage frais 2 | H14: Feuille de chêne vinaigrette
B15: Cordon bleu * | D15: Steack haché de veau* | F15: Veau* Marengo | H15: Fricassée de poulet*
B16: Jeunes carottes | D16: Petits pois 6 | F16: Légumes anciens (panais butternut)6 | H16: Gratin dauphinois 2
B17: Suisse 2 | D17: Fruit | F17: Donuts rose1/2/4 | H17: Donuts rose 1/2/4
A19: Jeudi | B19: Batavia vinaigrette et râpé 2 | D19: Carottes râpées aux agrumes et miel | F19: Pois chiches | H19: Taboulé 4
B20: Dhal de Lentilles au lait de coco | D20: Rôti de dinde* | F20: Tortellinis | H20: Moussaka 6
B21: Riz thaï | D21: Pommes de terre roties | F21: Sauce tomate 6 | H21: Au bœuf*
B22: Fruit | D22: Yaourt | F22: Compote 6 | H22: Yaourt nature
A24: Vendredi | B24: Cèleri remoulade | D24: Tarte au fromage 1/2/4 | F24: Crèpe au fromage 1/2/4 | H24: Batavia
B25: Poisson pané 7/11 | D25: Dos de colin sauce cidre et pommes 2/6 | F25: Beignets de calamars 4/7/11 | H25: Cubes de sumon à l'aneth 7/11
B26: Ratatouille 6 | D26: Boulgour au beurre 2/4 | F26: Haricots plats à la tomate 6 | H26: Riz
B27: Donuts rose 1/2/4 | D27: Fruit | F27: Fruit | H27: Fruit
A29: La Cuisine Centrale de Camaret sur Aygues se réserve le droit d’effectuer des modifications en cas de problème d’approvisionnement.
F30: végétarien | H30: repas froid
A31: Tous les jeudis en periode scolaire = Pain BIO
A32: * Viandes ,volailles et œufs Français | E32: Toutes nos crudités et cuidités sont accompagnées de vinaigrettes maison qui contiennent de la moutarde
A33: °Haute Valeur Environnementale
A34: Hôtel de Ville - Cours du Midi - 84850 Camaret sur Aigues Tél. : 04 90 37 22 60 - contact@camaret.org - www.camaret.org

Sheet portage
B1: =scolaire!C1 -> MENUS D'OCTOBRE 2026 réalisés par la Ville de Camaret-sur-Aygues
C2: Portage à domicile
B3: =scolaire!B3 -> 05 au 09 Octobre | D3: =scolaire!D3 -> 12 au 16 Octobre | F3: =scolaire!F3 -> 19 au 23 Octobre | H3: =scolaire!H3 -> 26 au 30 Octobre
A4: Lundi | B4: Maquereaux | D4: Salade pommes de terre | F4: Tomate au basilic | H4: Poireau vinaigrette
B5: Aiguillette de canard au pistou rouge | D5: Andouillette | F5: Paupiette de lapin | H5: Caillette
B6: Tagliatelles | D6: Haricot vert | F6: Risotto d'ebly | H6: Pommes de terre au four
B7: Fruit | D7: Laitage | F7: Fruit | H7: Fruit
A9: Mardi | B9: =scolaire!B4 -> Tarte douceur d'automne 1/2/4 | D9: =scolaire!D4 -> Salade verte | F9: =scolaire!F4 -> Coquillettes et féta au basilic 2/4 | H9: =scolaire!H4 -> Tortis au pesto rouge 4/
B10: =scolaire!B5 -> Roti de porc* sauce chorizo 2/6 | D10: =scolaire!D5 -> Escalope de poulet* aux myrtilles 2 | F10: =scolaire!F5 -> Poulet* rôti | H10: =scolaire!H5 -> Cotes de porc*
B11: =scolaire!B6 -> Petits pois 6 | D11: =scolaire!D6 -> Riz | F11: =scolaire!F6 -> Choux fleur | H11: =scolaire!H6 -> Jeunes carottes 6
B12: =scolaire!B7 -> Yaourt | D12: =scolaire!D7 -> Compote 6 | F12: =scolaire!F7 -> Yaourt | H12: =scolaire!H7 -> Fromage blanc
A14: Mercredi | B14: =scolaire!B9 -> Haricots verts et mimolette en salade 2/6 | D14: =scolaire!D9 -> Salade de riz exotique au thon 6/7/11 | F14: =scolaire!F9 -> Salade verte | H14: =scolaire!H9 -> Lentilles vinaigrette
B15: =scolaire!B10 -> Boul'bœuf* | D15: =scolaire!D10 -> Quenelles natures aux champignons 2 | F15: =scolaire!F10 -> Haché de porc* | H15: =scolaire!H10 -> Gnocchis 4
B16: =scolaire!B11 -> Semoule 4 | D16: =scolaire!D11 -> Poelée de légumes 6 | F16: =scolaire!F11 -> Purée 2 | H16: =scolaire!H11 -> sauce Fromagère et rapé 2
B17: =scolaire!B12 -> Fruit | D17: =scolaire!D12 -> Fromage blanc | F17: =scolaire!F12 -> Fromage | H17: =scolaire!H12 -> Fruit
A19: Jeudi | B19: =scolaire!B14 -> Salade de pâtes 4 | D19: =scolaire!D14 -> Muffin au roblechon 1/2/4 | F19: =scolaire!F14 -> Pommes de terre au fromage frais 2 | H19: =scolaire!H14 -> Feuille de chêne vinaigrette
B20: =scolaire!B15 -> Cordon bleu * | D20: =scolaire!D15 -> Steack haché de veau* | F20: =scolaire!F15 -> Veau* Marengo | H20: =scolaire!H15 -> Fricassée de poulet*
B21: =scolaire!B16 -> Jeunes carottes | D21: =scolaire!D16 -> Petits pois 6 | F21: =scolaire!F16 -> Légumes anciens (panais butternut)6 | H21: =scolaire!H16 -> Gratin dauphinois 2
B22: =scolaire!B17 -> Suisse 2 | D22: =scolaire!D17 -> Fruit | F22: =scolaire!F17 -> Donuts rose1/2/4 | H22: =scolaire!H17 -> Donuts rose 1/2/4
A24: Vendredi | B24: =scolaire!B24 -> Cèleri remoulade | D24: =scolaire!D24 -> Tarte au fromage 1/2/4 | F24: =scolaire!F24 -> Crèpe au fromage 1/2/4 | H24: =scolaire!H24 -> Batavia
B25: =scolaire!B25 -> Poisson pané 7/11 | D25: =scolaire!D25 -> Dos de colin sauce cidre et pommes 2/6 | F25: =scolaire!F25 -> Beignets de calamars 4/7/11 | H25: =scolaire!H25 -> Cubes de sumon à l'aneth 7/11
B26: =scolaire!B26 -> Ratatouille 6 | D26: =scolaire!D26 -> Boulgour au beurre 2/4 | F26: =scolaire!F26 -> Haricots plats à la tomate 6 | H26: =scolaire!H26 -> Riz
B27: =scolaire!B27 -> Donuts rose 1/2/4 | D27: =scolaire!D27 -> Fruit | F27: =scolaire!F27 -> Fruit | H27: =scolaire!H27 -> Fruit
A29: La Cuisine Centrale de Camaret sur Aygues se réserve le droit d’effectuer des modifications en cas de problème d’approvisionnement.
A30: Tous les jeudis en periode scolaire = Pain BIO | I30: repas froid
A31: * Viande , volaille et oeufs Français | E31: =scolaire!E32 -> Toutes nos crudités et cuidités sont accompagnées de vinaigrettes maison qui contiennent de la moutarde
A32: °Haute Valeur Environnementale
B34: thématique | C34: Repas poissons | D34: repas végétarien | E34: Repas classique

Sheet +18m
A1: =scolaire!C1 -> MENUS D'OCTOBRE 2026 réalisés par la Ville de Camaret-sur-Aygues
A2: Menus des enfants de plus de 18 mois
D3: Semaine du goût
B4: =scolaire!B3 -> 05 au 09 Octobre | D4: =scolaire!D3 -> 12 au 16 Octobre | F4: =scolaire!F3 -> 19 au 23 Octobre | H4: =scolaire!H3 -> 26 au 30 Octobre
A5: Lundi | B5: =scolaire!B4 -> Tarte douceur d'automne 1/2/4 | D5: =scolaire!D4 -> Salade verte | F5: =scolaire!F4 -> Coquillettes et féta au basilic 2/4 | H5: =scolaire!H4 -> Tortis au pesto rouge 4/
B6: =scolaire!B5 -> Roti de porc* sauce chorizo 2/6 | D6: =scolaire!D5 -> Escalope de poulet* aux myrtilles 2 | F6: =scolaire!F5 -> Poulet* rôti | H6: =scolaire!H5 -> Cotes de porc*
B7: =scolaire!B6 -> Petits pois 6 | D7: =scolaire!D6 -> Riz | F7: =scolaire!F6 -> Choux fleur | H7: =scolaire!H6 -> Jeunes carottes 6
B8: =scolaire!B7 -> Yaourt | D8: =scolaire!D7 -> Compote 6 | F8: =scolaire!F7 -> Yaourt | H8: =scolaire!H7 -> Fromage blanc
A10: Mardi | B10: =scolaire!B9 -> Haricots verts et mimolette en salade 2/6 | D10: =scolaire!D9 -> Salade de riz exotique au thon 6/7/11 | F10: =scolaire!F9 -> Salade verte | H10: =scolaire!H9 -> Lentilles vinaigrette
B11: =scolaire!B10 -> Boul'bœuf* | D11: =scolaire!D10 -> Quenelles natures aux champignons 2 | F11: =scolaire!F10 -> Haché de porc* | H11: =scolaire!H10 -> Gnocchis 4
B12: =scolaire!B11 -> Semoule 4 | D12: =scolaire!D11 -> Poelée de légumes 6 | F12: =scolaire!F11 -> Purée 2 | H12: =scolaire!H11 -> sauce Fromagère et rapé 2
B13: =scolaire!B12 -> Fruit | D13: =scolaire!D12 -> Fromage blanc | F13: =scolaire!F12 -> Fromage | H13: =scolaire!H12 -> Fruit
A15: Mercredi | B15: =scolaire!B14 -> Salade de pâtes 4 | D15: =scolaire!D14 -> Muffin au roblechon 1/2/4 | F15: =scolaire!F14 -> Pommes de terre au fromage frais 2 | H15: =scolaire!H14 -> Feuille de chêne vinaigrette
B16: =scolaire!B15 -> Cordon bleu * | D16: =scolaire!D15 -> Steack haché de veau* | F16: =scolaire!F15 -> Veau* Marengo | H16: =scolaire!H15 -> Fricassée de poulet*
B17: =scolaire!B16 -> Jeunes carottes | D17: =scolaire!D16 -> Petits pois 6 | F17: =scolaire!F16 -> Légumes anciens (panais butternut)6 | H17: =scolaire!H16 -> Gratin dauphinois 2
B18: =scolaire!B17 -> Suisse 2 | D18: =scolaire!D17 -> Fruit | F18: =scolaire!F17 -> Donuts rose1/2/4 | H18: =scolaire!H17 -> Donuts rose 1/2/4
A20: Jeudi | B20: =scolaire!B19 -> Batavia vinaigrette et râpé 2 | D20: =scolaire!D19 -> Carottes râpées aux agrumes et miel | F20: =scolaire!F19 -> Pois chiches | H20: =scolaire!H19 -> Taboulé 4
B21: =scolaire!B20 -> Dhal de Lentilles au lait de coco | D21: =scolaire!D20 -> Rôti de dinde* | F21: =scolaire!F20 -> Tortellinis | H21: =scolaire!H20 -> Moussaka 6
B22: =scolaire!B21 -> Riz thaï | D22: =scolaire!D21 -> Pommes de terre roties | F22: =scolaire!F21 -> Sauce tomate 6 | H22: =scolaire!H21 -> Au bœuf*
B23: =scolaire!B22 -> Fruit | D23: =scolaire!D22 -> Yaourt | F23: =scolaire!F22 -> Compote 6 | H23: =scolaire!H22 -> Yaourt nature
A25: Vendredi | B25: =scolaire!B24 -> Cèleri remoulade | D25: =scolaire!D24 -> Tarte au fromage 1/2/4 | F25: =scolaire!F24 -> Crèpe au fromage 1/2/4 | H25: =scolaire!H24 -> Batavia
B26: =scolaire!B25 -> Poisson pané 7/11 | D26: =scolaire!D25 -> Dos de colin sauce cidre et pommes 2/6 | F26: =scolaire!F25 -> Beignets de calamars 4/7/11 | H26: =scolaire!H25 -> Cubes de sumon à l'aneth 7/11
B27: =scolaire!B26 -> Ratatouille 6 | D27: =scolaire!D26 -> Boulgour au beurre 2/4 | F27: =scolaire!F26 -> Haricots plats à la tomate 6 | H27: =scolaire!H26 -> Riz
B28: =scolaire!B27 -> Donuts rose 1/2/4 | D28: =scolaire!D27 -> Fruit | F28: =scolaire!F27 -> Fruit | H28: =scolaire!H27 -> Fruit
A29: La cuisine centrale de Camaret sur Aygues se réserve le droit d’effectuer des modifications en cas de problème d’approvisionnement.
A30: *Viande,volaille et oeuf français | E30: =scolaire!E32 -> Toutes nos crudités et cuidités sont accompagnées de vinaigrettes maison qui contiennent de la moutarde
A31: °Haute Valeur Environnementale
A32: Tous les jeudis en periode scolaire = Pain BIO | D32: Hôtel de Ville - Cours du Midi - 84850 Camaret sur Aigues Tél. : 04 90 37 22 60 - contact@camaret.org - www.camaret.org
A33: Repas thématique | B33: Repas poissons | C33: repas végétarien | D33: Repas classique | I33: végétarien

Sheet  -18
C1: =scolaire!C1 -> MENUS D'OCTOBRE 2026 réalisés par la Ville de Camaret-sur-Aygues
A2: Menus des enfants de moins de 18 mois
B3: =scolaire!B3 -> 05 au 09 Octobre | D3: =scolaire!D3 -> 12 au 16 Octobre | F3: =scolaire!F3 -> 19 au 23 Octobre | H3: =scolaire!H3 -> 26 au 30 Octobre
A4: Lundi | B4: Porc* | D4: Poulet* | F4: Poulet* | H4: Porc*
B5: Purée de petits pois et Pommes de terre | D5: Purée de carottes et Pommes de terre | F5: Purée de chou fleur et Pommes de terre | H5: Purée de carottes et Pommes de terre
B7: Purée de fruit et pain | D7: Purée de fruit et pain | F7: Purée de fruit et pain | H7: Purée de fruit et pain
A9: Mardi | B9: Bœuf* | D9: Quenelle | F9: Porc* | H9: Dinde*
B10: Purée de haricots verts et Pommes de terre | D10: Purée de courgettes et Pommes de terre | F10: Purée de carottes et Pommes de terre | H10: Purée de haricots verts et Pommes de terre
B12: Purée de fruit et pain | D12: Purée de fruit et pain | F12: Purée de fruit et pain | H12: Purée de fruit et pain
A14: Mercredi | B14: Volaille* | D14: Veau* | F14: Veau* | H14: Poulet
B15: Purée de carotteset Pommes de terre | D15: Purée de cèleri et Pommes de terre | F15: Purée de panais/butternut et Pommes de terre | H15: Purée de artichauts et Pommes de terre
B17: Purée de fruit et pain | D17: Purée de fruit et pain | F17: Purée de fruit et pain | H17: Purée de fruit et pain
A19: Jeudi | B19: Dinde* | D19: Dinde* | F19: Volaille* | H19: Bœuf*
B20: Purée de légumes et Pommes de terre | D20: Purée de haricots verts et Pommes de terre | F20: Purée de céleri et Pommes de terre | H20: Purée de légumes et Pommes de terre
B22: Purée de fruit et pain | D22: Purée de fruit et pain | F22: Purée de fruit et pain | H22: Purée de fruit et pain
A24: Vendredi | B24: Poisson | D24: Poisson | F24: Poisson | H24: Poisson
B25: Purée de potiron et Pommes de terre | D25: Purée de légumes et Pommes de terre | F25: Purée de haricots plats et Pommes de terre | H25: Purée de courgettes et Pommes de terre
B27: Purée de fruit et pain | D27: Purée de fruit et pain | F27: Purée de fruit et pain | H27: Purée de fruit et pain
A29: La cuisine centrale de Camaret sur Aygues se réserve le droit d’effectuer des modifications en cas de problème d’approvisionnement.
A31: * Viande bovine française
A33: Hôtel de Ville - Cours du Midi - 84850 Camaret sur Aigues Tél. : 04 90 37 22 60 - contact@camaret.org - www.camaret.org
C37: Repas thématique | D37: Repas poissons | E37: repas végétarien | F37: Repas classique
C38: Pensez aux 1eres majuscules dans chaque cellule
