Workbook

Sheet ECOLE
A1: MENUS DE SEPTEMBRE 2026 réalisés par la Ville de Camaret-sur-Aygues
B3: 31 Aout au 4 Septembre | D3: 7 au 11 Septembre | F3: 14 au 18 Septembre | H3: 21 au 25 Septembre | J3: 28 Septembre au 2 Octobre
A4: Lundi | B4: Pizza 4 | D4: Tomate/mozza 2 | F4: Betteraves | H4: Crèpe au fromage 1/2/4 | J4: Lentilles en salade 6
B5: Cordon bleu | D5: Poulet roti | F5: Escalope de Poulet | H5: Chipolatas* | J5: Nuggets pois tournesol
B6: Brocolis gratinés 6/2 | D6: Coquillette au beurre | F6: Purée 4/2 | H6: Petits pois 6 | J6: Poèlée de légumes
B7: Fruit | D7: Compote 6 | F7: Yaourt | H7: Fruit | J7: Fromage blanc
A9: Mardi | B9: Carottes rapées | D9: Pizza soleiado | F9: Pois chiches vinaigrette 6 | H9: Salade de tomates | J9: Pizza
B10: Chili sin carne 6/12 | D10: Roti de porc au romarin | F10: Omelette | H10: Poulet* roti | J10: Cotes de porc*
B11: Riz | D11: Petits pois carottes | F11: Carottes crémées | H11: Boulgour 4 | J11: Purée
B12: Yaourt | D12: Fromage blanc | F12: Compote | H12: Fromage blanc | J12: Fruit
A14: Mercredi | B14: Salade verte | D14: Concombre | F14: Feuille de chêne et râpé | H14: Céleri remoulade 1 | J14: Roulé au fromage
B15: Club sandwich | D15: Tortellonis végés | F15: Couscous | H15: Rissolette de veau* | J15: Pates
B16: Tomate à croquer | D16: Sauce tomate | F16: aux boulettes d'agneau | H16: Chou fleur au gratin | J16: sauce bolognaise
B17: Glace 2 | D17: Yaourt | F17: Fruit | H17: Glace 2 | J17: Fruit
A19: Jeudi | B19: Tomate pesto | D19: Pommes de terre en salade au fromage frais | F19: Salade de pommes de terre | H19: Salade verte et râpé 2 | J19: Taboulé
B20: Roti de dinde*au jus | D20: Viennois de dinde | F20: Emincé de porc à la moutarde | H20: Quenelles sauce tomate | J20: Sauté de poulet*
B21: Semoule | D21: Haricots verts | F21: Brocolis 6 | H21: Riz | J21: Haricots plats
B22: Yaourt | D22: Compote | F22: Fromage blanc | H22: Fruit | J22: Yaourt à boire
A24: Vendredi | B24: Exquis au fromage | D24: Carottes rapées | F24: Tarte au fromage 1/2/4 | H24: Coquillettes au pesto | J24: Salade de tomate
B25: Nuggets de poisson | D25: Dos de colin sauce beurre blanc | F25: Moules à la crèmes 7/2 | H25: Nuggets de poisson 7/11/4 | J25: Cubes de saumon sauce crustacés
B26: Ratatouille | D26: Riz | F26: Penne | H26: Jeunes carottes | J26: Ebly
B27: Fruit | D27: Fromage camembert | F27: Fruit | H27: Fromage | J27: Flan vanille
A28: La Cuisine Centrale de Camaret sur Aygues se réserve le droit d’effectuer des modifications en cas de problème d’approvisionnement.
A29: * Viande ( ou œufs ) Français | E29: TOUTES NOS CRUDITES SONT ACCOMPAGNEES DE VINAIGRETTE MAISON CONTENANT DE LA MOUTARDE
A30: °Haute Valeur Environnementale
A31: Tous les jeudis en periode scolaire = Pain BIO | I31: végétarien | J31: repas froid
A32: Hôtel de Ville - Cours du Midi - 84850 Camaret sur Aigues Tél. : 04 90 37 22 60 - contact@camaret.org - www.camaret.org
D35: Repas thématique | E35: Repas poissons | F35: repas végétarien | G35: Repas classique

Sheet portage
A1: =ECOLE!A1 -> MENUS DE SEPTEMBRE 2026 réalisés par la Ville de Camaret-sur-Aygues
D2: MENUS PORTAGE à DOMICILE
A4: Lundi | B4: Filet de maquereaux | D4: Terrine de campagne | F4: Tomate/macédoine | H4: Rosette/cornichons | J4: Salade de Haricots verts
B5: Andouillette | D5: Paleron braisé | F5: Caillette | H5: Rognons à la moutarde | J5: Tomates farcies
B6: Pommes de terre au four | D6: Carottes | F6: Petits pois | H6: Ecrasé de pomme de terre | J6: Riz
B7: Laitage/fruit | D7: Fromage/dessert | F7: Fromage/compote | H7: Laitage/Fruit | J7: Fromage/fruit
A8: Mardi | B8: =ECOLE!B4 -> Pizza 4 | D8: =ECOLE!D4 -> Tomate/mozza 2 | F8: =ECOLE!F4 -> Betteraves | H8: =ECOLE!H4 -> Crèpe au fromage 1/2/4 | J8: =ECOLE!J4 -> Lentilles en salade 6
B9: =ECOLE!B5 -> Cordon bleu | D9: =ECOLE!D5 -> Poulet roti | F9: =ECOLE!F5 -> Escalope de Poulet | H9: =ECOLE!H5 -> Chipolatas* | J9: =ECOLE!J5 -> Nuggets pois tournesol
B10: =ECOLE!B6 -> Brocolis gratinés 6/2 | D10: =ECOLE!D6 -> Coquillette au beurre | F10: =ECOLE!F6 -> Purée 4/2 | H10: =ECOLE!H6 -> Petits pois 6 | J10: =ECOLE!J6 -> Poèlée de légumes
B11: =ECOLE!B7 -> Fruit | D11: =ECOLE!D7 -> Compote 6 | F11: =ECOLE!F7 -> Yaourt | H11: =ECOLE!H7 -> Fruit | J11: =ECOLE!J7 -> Fromage blanc
A12: Mercredi | B12: =ECOLE!B9 -> Carottes rapées | D12: =ECOLE!D9 -> Pizza soleiado | F12: =ECOLE!F9 -> Pois chiches vinaigrette 6 | H12: =ECOLE!H9 -> Salade de tomates | J12: =ECOLE!J9 -> Pizza
B13: =ECOLE!B10 -> Chili sin carne 6/12 | D13: =ECOLE!D10 -> Roti de porc au romarin | F13: =ECOLE!F10 -> Omelette | H13: =ECOLE!H10 -> Poulet* roti | J13: =ECOLE!J10 -> Cotes de porc*
B14: =ECOLE!B11 -> Riz | D14: =ECOLE!D11 -> Petits pois carottes | F14: =ECOLE!F11 -> Carottes crémées | H14: =ECOLE!H11 -> Boulgour 4 | J14: Mix de légumes verts
B15: =ECOLE!B12 -> Yaourt | D15: =ECOLE!D12 -> Fromage blanc | F15: =ECOLE!F12 -> Compote | H15: =ECOLE!H12 -> Fromage blanc | J15: =ECOLE!J12 -> Fruit
A16: Jeudi | B16: =ECOLE!B14 -> Salade verte | D16: =ECOLE!D14 -> Concombre | F16: =ECOLE!F14 -> Feuille de chêne et râpé | H16: =ECOLE!H14 -> Céleri remoulade 1 | J16: =ECOLE!J14 -> Roulé au fromage
B17: =ECOLE!B15 -> Club sandwich | D17: =ECOLE!D15 -> Tortellonis végés | F17: =ECOLE!F15 -> Couscous | H17: =ECOLE!H15 -> Rissolette de veau* | J17: =ECOLE!J15 -> Pates
B18: =ECOLE!B16 -> Tomate à croquer | D18: =ECOLE!D16 -> Sauce tomate | F18: =ECOLE!F16 -> aux boulettes d'agneau | H18: =ECOLE!H16 -> Chou fleur au gratin | J18: =ECOLE!J16 -> sauce bolognaise
B19: =ECOLE!B17 -> Glace 2 | D19: =ECOLE!D17 -> Yaourt | F19: =ECOLE!F17 -> Fruit | H19: =ECOLE!H17 -> Glace 2 | J19: =ECOLE!J17 -> Fruit
A20: Vendredi | B20: =ECOLE!B24 -> Exquis au fromage | D20: =ECOLE!D24 -> Carottes rapées | F20: =ECOLE!F24 -> Tarte au fromage 1/2/4 | H20: =ECOLE!H24 -> Coquillettes au pesto | J20: =ECOLE!J24 -> Salade de tomate
B21: =ECOLE!B25 -> Nuggets de poisson | D21: =ECOLE!D25 -> Dos de colin sauce beurre blanc | F21: =ECOLE!F25 -> Moules à la crèmes 7/2 | H21: =ECOLE!H25 -> Nuggets de poisson 7/11/4 | J21: =ECOLE!J25 -> Cubes de saumon sauce crustacés
B22: =ECOLE!B26 -> Ratatouille | D22: =ECOLE!D26 -> Riz | F22: =ECOLE!F26 -> Penne | H22: =ECOLE!H26 -> Jeunes carottes | J22: Boulgour
B23: =ECOLE!B27 -> Fruit | D23: =ECOLE!D27 -> Fromage camembert | F23: =ECOLE!F27 -> Fruit | H23: =ECOLE!H27 -> Fromage | J23: =ECOLE!J27 -> Flan vanille
A24: La Cuisine Centrale de Camaret sur Aigues se réserve le droit d’effectuer des modifications en cas de problème d’approvisionnement.
A25: * Viande française | E25: TOUTES NOS CRUDITES SONT ACCOMPAGNEES DE VINAIGRETTE CONTENANT DE LA MOUTARDE
A26: °Haute Valeur Environnementale
A27: Tous les jeudis en periode scolaire = Pain BIO | I27: repas froid
A28: Hôtel de Ville - Cours du Midi - 84850 Camaret sur Aigues Tél. : 04 90 37 22 60 - contact@camaret.org - www.camaret.org
C30: Repas thématique | D30: Repas poissons | E30: repas végétarien | F30: Repas classique

Sheet +18m
A1: =ECOLE!A1 -> MENUS DE SEPTEMBRE 2026 réalisés par la Ville de Camaret-sur-Aygues
A2: Menus des enfants de plus de 18 mois
B3: =ECOLE!B3 -> 31 Aout au 4 Septembre | D3: =ECOLE!D3 -> 7 au 11 Septembre | F3: =ECOLE!F3 -> 14 au 18 Septembre | H3: =ECOLE!H3 -> 21 au 25 Septembre | I3: =ECOLE!J3 -> 28 Septembre au 2 Octobre
A4: Lundi | B4: =ECOLE!B4 -> Pizza 4 | D4: =ECOLE!D4 -> Tomate/mozza 2 | F4: =ECOLE!F4 -> Betteraves | H4: =ECOLE!H4 -> Crèpe au fromage 1/2/4 | I4: =ECOLE!J4 -> Lentilles en salade 6
B5: =ECOLE!B5 -> Cordon bleu | D5: =ECOLE!D5 -> Poulet roti | F5: =ECOLE!F5 -> Escalope de Poulet | H5: =ECOLE!H5 -> Chipolatas* | I5: =ECOLE!J5 -> Nuggets pois tournesol
B6: =ECOLE!B6 -> Brocolis gratinés 6/2 | D6: =ECOLE!D6 -> Coquillette au beurre | F6: =ECOLE!F6 -> Purée 4/2 | H6: =ECOLE!H6 -> Petits pois 6 | I6: =ECOLE!J6 -> Poèlée de légumes
B7: =ECOLE!B7 -> Fruit | D7: =ECOLE!D7 -> Compote 6 | F7: =ECOLE!F7 -> Yaourt | H7: =ECOLE!H7 -> Fruit | I7: =ECOLE!J7 -> Fromage blanc
A9: Mardi | B9: =ECOLE!B9 -> Carottes rapées | D9: =ECOLE!D9 -> Pizza soleiado | F9: =ECOLE!F9 -> Pois chiches vinaigrette 6 | H9: =ECOLE!H9 -> Salade de tomates | I9: =ECOLE!J9 -> Pizza
B10: =ECOLE!B10 -> Chili sin carne 6/12 | D10: =ECOLE!D10 -> Roti de porc au romarin | F10: =ECOLE!F10 -> Omelette | H10: =ECOLE!H10 -> Poulet* roti | I10: =ECOLE!J10 -> Cotes de porc*
B11: =ECOLE!B11 -> Riz | D11: =ECOLE!D11 -> Petits pois carottes | F11: =ECOLE!F11 -> Carottes crémées | H11: =ECOLE!H11 -> Boulgour 4 | I11: =ECOLE!J11 -> Purée
B12: =ECOLE!B12 -> Yaourt | D12: =ECOLE!D12 -> Fromage blanc | F12: =ECOLE!F12 -> Compote | H12: =ECOLE!H12 -> Fromage blanc | I12: =ECOLE!J12 -> Fruit
A14: Mercredi | B14: Salade de tomate | D14: =ECOLE!D14 -> Concombre | F14: =ECOLE!F14 -> Feuille de chêne et râpé | H14: =ECOLE!H14 -> Céleri remoulade 1 | I14: =ECOLE!J14 -> Roulé au fromage
B15: =ECOLE!B15 -> Club sandwich | D15: =ECOLE!D15 -> Tortellonis végés | F15: =ECOLE!F15 -> Couscous | H15: =ECOLE!H15 -> Rissolette de veau* | I15: =ECOLE!J15 -> Pates
B16: =ECOLE!B16 -> Tomate à croquer | D16: =ECOLE!D16 -> Sauce tomate | F16: =ECOLE!F16 -> aux boulettes d'agneau | H16: =ECOLE!H16 -> Chou fleur au gratin | I16: =ECOLE!J16 -> sauce bolognaise
B17: =ECOLE!B17 -> Glace 2 | D17: =ECOLE!D17 -> Yaourt | F17: =ECOLE!F17 -> Fruit | H17: =ECOLE!H17 -> Glace 2 | I17: =ECOLE!J17 -> Fruit
A19: Jeudi | B19: =ECOLE!B19 -> Tomate pesto | D19: =ECOLE!D19 -> Pommes de terre en salade au fromage frais | F19: =ECOLE!F19 -> Salade de pommes de terre | H19: =ECOLE!H19 -> Salade verte et râpé 2 | I19: =ECOLE!J19 -> Taboulé
B20: =ECOLE!B20 -> Roti de dinde*au jus | D20: =ECOLE!D20 -> Viennois de dinde | F20: =ECOLE!F20 -> Emincé de porc à la moutarde | H20: =ECOLE!H20 -> Quenelles sauce tomate | I20: =ECOLE!J20 -> Sauté de poulet*
B21: =ECOLE!B21 -> Semoule | D21: =ECOLE!D21 -> Haricots verts | F21: =ECOLE!F21 -> Brocolis 6 | H21: =ECOLE!H21 -> Riz | I21: =ECOLE!J21 -> Haricots plats
B22: =ECOLE!B22 -> Yaourt | D22: =ECOLE!D22 -> Compote | F22: =ECOLE!F22 -> Fromage blanc | H22: =ECOLE!H22 -> Fruit | I22: =ECOLE!J22 -> Yaourt à boire
A24: Vendredi | B24: =ECOLE!B24 -> Exquis au fromage | D24: =ECOLE!D24 -> Carottes rapées | F24: =ECOLE!F24 -> Tarte au fromage 1/2/4 | H24: =ECOLE!H24 -> Coquillettes au pesto | I24: =ECOLE!J24 -> Salade de tomate
B25: =ECOLE!B25 -> Nuggets de poisson | D25: =ECOLE!D25 -> Dos de colin sauce beurre blanc | F25: =ECOLE!F25 -> Moules à la crèmes 7/2 | H25: =ECOLE!H25 -> Nuggets de poisson 7/11/4 | I25: =ECOLE!J25 -> Cubes de saumon sauce crustacés
B26: =ECOLE!B26 -> Ratatouille | D26: =ECOLE!D26 -> Riz | F26: =ECOLE!F26 -> Penne | H26: =ECOLE!H26 -> Jeunes carottes | I26: =ECOLE!J26 -> Ebly
B27: =ECOLE!B27 -> Fruit | D27: =ECOLE!D27 -> Fromage camembert | F27: =ECOLE!F27 -> Fruit | H27: =ECOLE!H27 -> Fromage | I27: =ECOLE!J27 -> Flan vanille
A29: La cuisine centrale de Camaret sur Aygues se réserve le droit d’effectuer des modifications en cas de problème d’approvisionnement.
I30: repas froid
A31: * Viande française
B32: =ECOLE!A28 -> La Cuisine Centrale de Camaret sur Aygues se réserve le droit d’effectuer des modifications en cas de problème d’approvisionnement.
A33: Hôtel de Ville - Cours du Midi - 84850 Camaret sur Aigues Tél. : 04 90 37 22 60 - contact@camaret.org - www.camaret.org
C37: Repas thématique | D37: Repas poissons | E37: repas végétarien | F37: Repas classique

Sheet  -18
C1: =ECOLE!A1 -> MENUS DE SEPTEMBRE 2026 réalisés par la Ville de Camaret-sur-Aygues
A2: Menus des enfants de moins de 18 mois
B3: =ECOLE!B3 -> 31 Aout au 4 Septembre | D3: =ECOLE!D3 -> 7 au 11 Septembre | F3: =ECOLE!F3 -> 14 au 18 Septembre | H3: =ECOLE!H3 -> 21 au 25 Septembre | I3: =ECOLE!J3 -> 28 Septembre au 2 Octobre
A4: Lundi | B4: Poulet* | D4: Poulet* | F4: Poulet* | H4: Jambon* | I4: Jambon de dinde*
B5: Purée de brocolis et Pommes de terre | D5: Purée de potiron et Pommes de terre | F5: Purée de haricots beurre et Pommes de terre | H5: Purée de petits pois et pommes de terre | I5: Purée de légumes et Pommes de terre
B7: Purée de fruit et pain | D7: Purée de fruit et pain | F7: Purée de fruit et pain | H7: Purée de fruit et pain | I7: Purée de fruit et pain
A9: Mardi | B9: Jambon de Dinde* | D9: Porc* | F9: Œufs* | H9: Poulet* | I9: Porc*
B10: Purée de légumes et Pommes de terre | D10: Purée de petis pois carottes et Pommes de terre | F10: Purée de carottes et Pommes de terre | H10: Purée de potiron et Pommes de terre | I10: Purée de cèleri et Pommes de terre
B12: Purée de fruit et pain | D12: Purée de fruit et pain | F12: Purée de fruit et pain | H12: Purée de fruit et pain | I12: Purée de fruit et pain
A14: Mercredi | B14: Poulet* | D14: Bœuf* | F14: Agneau | H14: Veau* | I14: Bœuf*
B15: Purée de cèleri et Pommes de terre | D15: Purée de Haricots Plats et Pommes de terre | F15: Purée de légumes et Pommes de terre | H15: Purée de chou fleur et Pommes de terre | I15: Purée de carottes et pommes de terre
B17: Purée de fruit et pain | D17: Purée de fruit et pain | F17: Purée de fruit et pain | H17: Purée de fruit et pain | I17: Purée de fruit et pain
A19: Jeudi | B19: Dinde* | D19: Dinde* | F19: Porc* | H19: Quenelles* | I19: Poulet*
B20: Purée de courgettes et Pommes de terre | D20: Purée de Haricots verts et Pommes de terre | F20: Purée de Brocolis et Pommes de terre | H20: Purée de courgettes et Pommes de terre | I20: Purée de haricots plats et Pommes de terre
B22: Purée de fruit et pain | D22: Purée de fruit et pain | F22: Purée de fruit et pain | H22: Purée de fruit et pain | I22: Purée de fruit et pain
A24: Vendredi | B24: Poisson | D24: Colin | F24: Poisson | H24: Poisson | I24: Poisson
B25: Purée de haricots plats et Pommes de terre | D25: Purée de légumes et Pommes de terre | F25: Purée de cèleri et Pommes de terre | H25: Purée de carottes et Pommes de terre | I25: Purée de Artichauts et Pommes de terre
B27: Purée de fruit et pain | D27: Purée de fruit et pain | F27: Purée de fruit et pain | H27: Purée de fruit et pain | I27: Purée de fruit et pain
A29: La cuisine centrale de Camaret sur Aygues se réserve le droit d’effectuer des modifications en cas de problème d’approvisionnement.
A30: * Viande française
A31: Hôtel de Ville - Cours du Midi - 84850 Camaret sur Aigues Tél. : 04 90 37 22 60 - contact@camaret.org - www.camaret.org
B32: =ECOLE!B31 -> 0
C37: Repas thématique | D37: Repas poissons | E37: repas végétarien | F37: Repas classique
C38: Pensez aux 1eres majuscules dans chaque cellule
